BEGIN:VCALENDAR
VERSION:2.0
PRODID:-//Highline Heritage Museum - ECPv6.15.16.1//NONSGML v1.0//EN
CALSCALE:GREGORIAN
METHOD:PUBLISH
X-ORIGINAL-URL:https://highlinemuseum.org
X-WR-CALDESC:Events for Highline Heritage Museum
REFRESH-INTERVAL;VALUE=DURATION:PT1H
X-Robots-Tag:noindex
X-PUBLISHED-TTL:PT1H
BEGIN:VTIMEZONE
TZID:America/Los_Angeles
BEGIN:DAYLIGHT
TZOFFSETFROM:-0800
TZOFFSETTO:-0700
TZNAME:PDT
DTSTART:20200308T100000
END:DAYLIGHT
BEGIN:STANDARD
TZOFFSETFROM:-0700
TZOFFSETTO:-0800
TZNAME:PST
DTSTART:20201101T090000
END:STANDARD
BEGIN:DAYLIGHT
TZOFFSETFROM:-0800
TZOFFSETTO:-0700
TZNAME:PDT
DTSTART:20210314T100000
END:DAYLIGHT
BEGIN:STANDARD
TZOFFSETFROM:-0700
TZOFFSETTO:-0800
TZNAME:PST
DTSTART:20211107T090000
END:STANDARD
BEGIN:DAYLIGHT
TZOFFSETFROM:-0800
TZOFFSETTO:-0700
TZNAME:PDT
DTSTART:20220313T100000
END:DAYLIGHT
BEGIN:STANDARD
TZOFFSETFROM:-0700
TZOFFSETTO:-0800
TZNAME:PST
DTSTART:20221106T090000
END:STANDARD
END:VTIMEZONE
BEGIN:VEVENT
DTSTART;TZID=America/Los_Angeles:20211107T140000
DTEND;TZID=America/Los_Angeles:20211107T160000
DTSTAMP:20260419T090653
CREATED:20211008T205347Z
LAST-MODIFIED:20211008T205404Z
UID:7027-1636293600-1636300800@highlinemuseum.org
SUMMARY:Des Moines Memorial Drive: Unlocking New Discoveries
DESCRIPTION:Join us for our annual meeting and stay to attend the program by historian Tom Gudmestad.  Tom will share new found discoveries about the history of Des Moines Memorial Drive. \nTom Gudmestad has dedicated much of his life and his home to preserving World War I history and keeping the personal stories of the war alive. He has amassed a massive collection of WWI artifacts\, books\, photographs\, and the personal stories of veterans since the 1970s. \nOn  site at Highline History Museum \nAnnual Meeting:   2:00-2:30 PM PST\nProgram:   2:20-4:00 PM PST \nLimited Space – RSVP Today! \n\nMuseum Members – FREE\nGeneral Admission – $8
URL:https://highlinemuseum.org/event/des-moines-memorial-drive-unlocking-new-discoveries/
LOCATION:Highline Heritage Museum\, 819 SW 152nd St\, Burien\, WA\, 98166\, United States
CATEGORIES:Museum Events
ATTACH;FMTTYPE=image/png:https://highlinemuseum.org/wp-content/uploads/2021/10/Tom-G-1.png
ORGANIZER;CN="Highline Heritage Museum":MAILTO:info@highlinehistory.org
END:VEVENT
END:VCALENDAR