BEGIN:VCALENDAR
VERSION:2.0
PRODID:-//Highline Heritage Museum - ECPv6.15.16.1//NONSGML v1.0//EN
CALSCALE:GREGORIAN
METHOD:PUBLISH
X-ORIGINAL-URL:https://highlinemuseum.org
X-WR-CALDESC:Events for Highline Heritage Museum
REFRESH-INTERVAL;VALUE=DURATION:PT1H
X-Robots-Tag:noindex
X-PUBLISHED-TTL:PT1H
BEGIN:VTIMEZONE
TZID:America/Los_Angeles
BEGIN:DAYLIGHT
TZOFFSETFROM:-0800
TZOFFSETTO:-0700
TZNAME:PDT
DTSTART:20200308T100000
END:DAYLIGHT
BEGIN:STANDARD
TZOFFSETFROM:-0700
TZOFFSETTO:-0800
TZNAME:PST
DTSTART:20201101T090000
END:STANDARD
BEGIN:DAYLIGHT
TZOFFSETFROM:-0800
TZOFFSETTO:-0700
TZNAME:PDT
DTSTART:20210314T100000
END:DAYLIGHT
BEGIN:STANDARD
TZOFFSETFROM:-0700
TZOFFSETTO:-0800
TZNAME:PST
DTSTART:20211107T090000
END:STANDARD
BEGIN:DAYLIGHT
TZOFFSETFROM:-0800
TZOFFSETTO:-0700
TZNAME:PDT
DTSTART:20220313T100000
END:DAYLIGHT
BEGIN:STANDARD
TZOFFSETFROM:-0700
TZOFFSETTO:-0800
TZNAME:PST
DTSTART:20221106T090000
END:STANDARD
END:VTIMEZONE
BEGIN:VEVENT
DTSTART;TZID=America/Los_Angeles:20210728T090000
DTEND;TZID=America/Los_Angeles:20210811T120000
DTSTAMP:20260419T130242
CREATED:20210601T232427Z
LAST-MODIFIED:20210602T001958Z
UID:4929-1627462800-1628683200@highlinemuseum.org
SUMMARY:Summer Camp: Exhibit Junior Curator
DESCRIPTION:Become a museum curator! Go behind the scenes at the museum and curate your own exhibit in this unique and immersive camp. \nJuly 28 – August 13\,  2021 \nWednesdays \n9 AM – 12 PM \n  \nWe provide a safe and fun learning environment that combines cool historic facts through hands-on activities. \nCampers will discover the history that surrounds us every day! \n  \n 
URL:https://highlinemuseum.org/event/summer-camp-exhibit-junior-curator/
LOCATION:Highline Heritage Museum\, 819 SW 152nd St\, Burien\, WA\, 98166\, United States
CATEGORIES:Museum Events
ATTACH;FMTTYPE=image/png:https://highlinemuseum.org/wp-content/uploads/2021/05/exhibit-camp-1.png
ORGANIZER;CN="Highline Heritage Museum":MAILTO:info@highlinehistory.org
END:VEVENT
BEGIN:VEVENT
DTSTART;TZID=America/Los_Angeles:20210811T190000
DTEND;TZID=America/Los_Angeles:20210811T200000
DTSTAMP:20260419T130242
CREATED:20210709T210905Z
LAST-MODIFIED:20210828T202316Z
UID:5009-1628708400-1628712000@highlinemuseum.org
SUMMARY:Like Mother: 7 Artists Panel
DESCRIPTION:Wednesday\, August 11\n7:00 – 8:00 PM\nFree via Zoom \nhttps://us02web.zoom.us/j/84376087534\nMeeting ID: 843 7608 7534
URL:https://highlinemuseum.org/event/like-mother-7-artists-panel/
LOCATION:WA
CATEGORIES:Museum Events
ATTACH;FMTTYPE=image/png:https://highlinemuseum.org/wp-content/uploads/2021/07/Like-Mother-Exhibit-2021-2-small.png
END:VEVENT
END:VCALENDAR