BEGIN:VCALENDAR
VERSION:2.0
PRODID:-//Highline Heritage Museum - ECPv6.15.16.1//NONSGML v1.0//EN
CALSCALE:GREGORIAN
METHOD:PUBLISH
X-WR-CALNAME:Highline Heritage Museum
X-ORIGINAL-URL:https://highlinemuseum.org
X-WR-CALDESC:Events for Highline Heritage Museum
REFRESH-INTERVAL;VALUE=DURATION:PT1H
X-Robots-Tag:noindex
X-PUBLISHED-TTL:PT1H
BEGIN:VTIMEZONE
TZID:America/Los_Angeles
BEGIN:DAYLIGHT
TZOFFSETFROM:-0800
TZOFFSETTO:-0700
TZNAME:PDT
DTSTART:20200308T100000
END:DAYLIGHT
BEGIN:STANDARD
TZOFFSETFROM:-0700
TZOFFSETTO:-0800
TZNAME:PST
DTSTART:20201101T090000
END:STANDARD
BEGIN:DAYLIGHT
TZOFFSETFROM:-0800
TZOFFSETTO:-0700
TZNAME:PDT
DTSTART:20210314T100000
END:DAYLIGHT
BEGIN:STANDARD
TZOFFSETFROM:-0700
TZOFFSETTO:-0800
TZNAME:PST
DTSTART:20211107T090000
END:STANDARD
BEGIN:DAYLIGHT
TZOFFSETFROM:-0800
TZOFFSETTO:-0700
TZNAME:PDT
DTSTART:20220313T100000
END:DAYLIGHT
BEGIN:STANDARD
TZOFFSETFROM:-0700
TZOFFSETTO:-0800
TZNAME:PST
DTSTART:20221106T090000
END:STANDARD
END:VTIMEZONE
BEGIN:VEVENT
DTSTART;TZID=America/Los_Angeles:20210619T160000
DTEND;TZID=America/Los_Angeles:20210619T170000
DTSTAMP:20260419T155413
CREATED:20210602T011028Z
LAST-MODIFIED:20210602T235539Z
UID:4969-1624118400-1624122000@highlinemuseum.org
SUMMARY:Live Discussion: Gender & Identity - Fighting Stigma
DESCRIPTION:Panel with Three Guest Speakers \nThis is part of OUR VOICES: Social Justice in Times of COVID-19 \n  \nSaturday\, June 19\, 2021 \n4 PM – Free via Zoom \nTo register – contact info@highlinehistory.org \n  \n 
URL:https://highlinemuseum.org/event/live-discussion-gender-identity-fighting-stigma/
LOCATION:WA
CATEGORIES:Museum Events
ATTACH;FMTTYPE=image/png:https://highlinemuseum.org/wp-content/uploads/2021/06/Discussion-panel-small.png
END:VEVENT
END:VCALENDAR