BEGIN:VCALENDAR
VERSION:2.0
PRODID:-//Highline Heritage Museum - ECPv6.15.16.1//NONSGML v1.0//EN
CALSCALE:GREGORIAN
METHOD:PUBLISH
X-ORIGINAL-URL:https://highlinemuseum.org
X-WR-CALDESC:Events for Highline Heritage Museum
REFRESH-INTERVAL;VALUE=DURATION:PT1H
X-Robots-Tag:noindex
X-PUBLISHED-TTL:PT1H
BEGIN:VTIMEZONE
TZID:America/Los_Angeles
BEGIN:DAYLIGHT
TZOFFSETFROM:-0800
TZOFFSETTO:-0700
TZNAME:PDT
DTSTART:20200308T100000
END:DAYLIGHT
BEGIN:STANDARD
TZOFFSETFROM:-0700
TZOFFSETTO:-0800
TZNAME:PST
DTSTART:20201101T090000
END:STANDARD
BEGIN:DAYLIGHT
TZOFFSETFROM:-0800
TZOFFSETTO:-0700
TZNAME:PDT
DTSTART:20210314T100000
END:DAYLIGHT
BEGIN:STANDARD
TZOFFSETFROM:-0700
TZOFFSETTO:-0800
TZNAME:PST
DTSTART:20211107T090000
END:STANDARD
BEGIN:DAYLIGHT
TZOFFSETFROM:-0800
TZOFFSETTO:-0700
TZNAME:PDT
DTSTART:20220313T100000
END:DAYLIGHT
BEGIN:STANDARD
TZOFFSETFROM:-0700
TZOFFSETTO:-0800
TZNAME:PST
DTSTART:20221106T090000
END:STANDARD
END:VTIMEZONE
BEGIN:VEVENT
DTSTART;TZID=America/Los_Angeles:20211022T190000
DTEND;TZID=America/Los_Angeles:20211022T203000
DTSTAMP:20260419T090413
CREATED:20211008T221800Z
LAST-MODIFIED:20211008T221955Z
UID:7036-1634929200-1634934600@highlinemuseum.org
SUMMARY:7 Stories: A Night of Storytelling Event
DESCRIPTION:7 Storytellers\n7 Real Stories\n7 Minutes Each \n7 Stories is back! We want to hear your true story! Sign up to tell your story:\nhttp://burienculturehub.org/7stories \n7 Stories is a night of storytelling to celebrate our communities’ rich cultural heritage. Stories tell us more about our friends and neighbors. \nWHAT:     7 Stories – A Night of Storytelling\nTHEME:     Uncharted Territory\nWHEN:     October 22\, 7:00-8:30 PM\nWHERE:    Highline Heritage Museum and streamed live \nThe first storytelling night of the season will be a hybrid: live with storytellers and a small number of guests at the museum\, streamed live\, and shared on the 7Stories Youtube channel after the event. \nFor more information or to sign up\, go to http://burienculturehub.org/7stories. Or to contact us\, email at 7stories@burienculturehub.org
URL:https://highlinemuseum.org/event/7-stories-a-night-of-storytelling-event/
LOCATION:Highline Heritage Museum\, 819 SW 152nd St\, Burien\, WA\, 98166\, United States
CATEGORIES:Museum Events
ATTACH;FMTTYPE=image/jpeg:https://highlinemuseum.org/wp-content/uploads/2021/10/7-stories-1.jpg
END:VEVENT
END:VCALENDAR