BEGIN:VCALENDAR
VERSION:2.0
PRODID:-//Highline Heritage Museum - ECPv6.15.16.1//NONSGML v1.0//EN
CALSCALE:GREGORIAN
METHOD:PUBLISH
X-ORIGINAL-URL:https://highlinemuseum.org
X-WR-CALDESC:Events for Highline Heritage Museum
REFRESH-INTERVAL;VALUE=DURATION:PT1H
X-Robots-Tag:noindex
X-PUBLISHED-TTL:PT1H
BEGIN:VTIMEZONE
TZID:America/Los_Angeles
BEGIN:DAYLIGHT
TZOFFSETFROM:-0800
TZOFFSETTO:-0700
TZNAME:PDT
DTSTART:20200308T100000
END:DAYLIGHT
BEGIN:STANDARD
TZOFFSETFROM:-0700
TZOFFSETTO:-0800
TZNAME:PST
DTSTART:20201101T090000
END:STANDARD
BEGIN:DAYLIGHT
TZOFFSETFROM:-0800
TZOFFSETTO:-0700
TZNAME:PDT
DTSTART:20210314T100000
END:DAYLIGHT
BEGIN:STANDARD
TZOFFSETFROM:-0700
TZOFFSETTO:-0800
TZNAME:PST
DTSTART:20211107T090000
END:STANDARD
BEGIN:DAYLIGHT
TZOFFSETFROM:-0800
TZOFFSETTO:-0700
TZNAME:PDT
DTSTART:20220313T100000
END:DAYLIGHT
BEGIN:STANDARD
TZOFFSETFROM:-0700
TZOFFSETTO:-0800
TZNAME:PST
DTSTART:20221106T090000
END:STANDARD
END:VTIMEZONE
BEGIN:VEVENT
DTSTART;TZID=America/Los_Angeles:20210904T130000
DTEND;TZID=America/Los_Angeles:20210904T170000
DTSTAMP:20260419T114209
CREATED:20210825T183140Z
LAST-MODIFIED:20210830T001051Z
UID:5195-1630760400-1630774800@highlinemuseum.org
SUMMARY:Art 4 The Garden Fence
DESCRIPTION:Unveiling Celebration!\nCome meet the artists and sponsors of the “Art 4 the Garden Fence” project and celebrate with the Highline Community! Celebrate the newly installed art with music\, face painting\, and food trucks. We invite you to bring a blanket or lawn chair to enjoy the music.
URL:https://highlinemuseum.org/event/art-4-the-garden-fence/
LOCATION:New Start Community Garden\, 614 SW 120th St\, Burien\, WA\, 98146\, United States
CATEGORIES:Museum Events
ATTACH;FMTTYPE=image/png:https://highlinemuseum.org/wp-content/uploads/2021/08/Screen-Shot-2021-08-29-at-5.09.44-PM.png
GEO:47.4966311;-122.3424102
X-APPLE-STRUCTURED-LOCATION;VALUE=URI;X-ADDRESS=New Start Community Garden 614 SW 120th St Burien WA 98146 United States;X-APPLE-RADIUS=500;X-TITLE=614 SW 120th St:geo:-122.3424102,47.4966311
END:VEVENT
BEGIN:VEVENT
DTSTART;TZID=America/Los_Angeles:20210910T170000
DTEND;TZID=America/Los_Angeles:20210910T190000
DTSTAMP:20260419T114209
CREATED:20210825T190209Z
LAST-MODIFIED:20210830T000830Z
UID:5199-1631293200-1631300400@highlinemuseum.org
SUMMARY:Private Museum Major Donors & Members Reception
DESCRIPTION:Special Guest: Eric Nelson – Executive Director/CEO\, National Nordic Museum \nRSVP by August 23rd \nQuestions? email director@highlinehistory.org
URL:https://highlinemuseum.org/event/private-museum-major-donors-members-reception/
LOCATION:WA
CATEGORIES:Museum Events
ATTACH;FMTTYPE=image/png:https://highlinemuseum.org/wp-content/uploads/2021/08/Screen-Shot-2021-08-29-at-5.08.07-PM.png
END:VEVENT
BEGIN:VEVENT
DTSTART;TZID=America/Los_Angeles:20210911T170000
DTEND;TZID=America/Los_Angeles:20210911T210000
DTSTAMP:20260419T114209
CREATED:20210825T191356Z
LAST-MODIFIED:20210910T185900Z
UID:5202-1631379600-1631394000@highlinemuseum.org
SUMMARY:Glow in the Dark Museum
DESCRIPTION:Ready to have fun? \nAs part of the Arts-A-Glow around Burien\, we are introducing to our Glow in the Dark Museum! Check out our museum exhibits glowing! You don’t want to miss it! \nGeneral Admission – $8\nMembers & Children – Free
URL:https://highlinemuseum.org/event/glow-in-the-dark-museum/
LOCATION:Highline Heritage Museum\, 819 SW 152nd St\, Burien\, WA\, 98166\, United States
CATEGORIES:Museum Events
ATTACH;FMTTYPE=image/png:https://highlinemuseum.org/wp-content/uploads/2021/08/Glow-in-the-dark-museum-16-9.png
END:VEVENT
BEGIN:VEVENT
DTSTART;TZID=America/Los_Angeles:20210918T180000
DTEND;TZID=America/Los_Angeles:20210918T200000
DTSTAMP:20260419T114209
CREATED:20210825T191836Z
LAST-MODIFIED:20210922T184431Z
UID:5205-1631988000-1631995200@highlinemuseum.org
SUMMARY:Whiskey & Wiretaps: The Northwest’s Rumrunning King
DESCRIPTION:Featuring Steve Edmiston\, Humanities Washington. Celebrate Roy Omstead’s Birthday with us! Live and Free. \nLimited Space!
URL:https://highlinemuseum.org/event/whiskey-wiretaps-the-northwests-rumrunning-king/
LOCATION:Highline Heritage Museum\, 819 SW 152nd St\, Burien\, WA\, 98166\, United States
CATEGORIES:Museum Events
ATTACH;FMTTYPE=image/jpeg:https://highlinemuseum.org/wp-content/uploads/2021/08/jpg-Steve-Edmiston-Presentation-1.jpg
END:VEVENT
END:VCALENDAR