BEGIN:VCALENDAR
VERSION:2.0
PRODID:-//Highline Heritage Museum - ECPv6.15.16.1//NONSGML v1.0//EN
CALSCALE:GREGORIAN
METHOD:PUBLISH
X-WR-CALNAME:Highline Heritage Museum
X-ORIGINAL-URL:https://highlinemuseum.org
X-WR-CALDESC:Events for Highline Heritage Museum
REFRESH-INTERVAL;VALUE=DURATION:PT1H
X-Robots-Tag:noindex
X-PUBLISHED-TTL:PT1H
BEGIN:VTIMEZONE
TZID:America/Los_Angeles
BEGIN:DAYLIGHT
TZOFFSETFROM:-0800
TZOFFSETTO:-0700
TZNAME:PDT
DTSTART:20200308T100000
END:DAYLIGHT
BEGIN:STANDARD
TZOFFSETFROM:-0700
TZOFFSETTO:-0800
TZNAME:PST
DTSTART:20201101T090000
END:STANDARD
BEGIN:DAYLIGHT
TZOFFSETFROM:-0800
TZOFFSETTO:-0700
TZNAME:PDT
DTSTART:20210314T100000
END:DAYLIGHT
BEGIN:STANDARD
TZOFFSETFROM:-0700
TZOFFSETTO:-0800
TZNAME:PST
DTSTART:20211107T090000
END:STANDARD
BEGIN:DAYLIGHT
TZOFFSETFROM:-0800
TZOFFSETTO:-0700
TZNAME:PDT
DTSTART:20220313T100000
END:DAYLIGHT
BEGIN:STANDARD
TZOFFSETFROM:-0700
TZOFFSETTO:-0800
TZNAME:PST
DTSTART:20221106T090000
END:STANDARD
END:VTIMEZONE
BEGIN:VEVENT
DTSTART;TZID=America/Los_Angeles:20210728T090000
DTEND;TZID=America/Los_Angeles:20210811T120000
DTSTAMP:20260419T113939
CREATED:20210601T232427Z
LAST-MODIFIED:20210602T001958Z
UID:4929-1627462800-1628683200@highlinemuseum.org
SUMMARY:Summer Camp: Exhibit Junior Curator
DESCRIPTION:Become a museum curator! Go behind the scenes at the museum and curate your own exhibit in this unique and immersive camp. \nJuly 28 – August 13\,  2021 \nWednesdays \n9 AM – 12 PM \n  \nWe provide a safe and fun learning environment that combines cool historic facts through hands-on activities. \nCampers will discover the history that surrounds us every day! \n  \n 
URL:https://highlinemuseum.org/event/summer-camp-exhibit-junior-curator/
LOCATION:Highline Heritage Museum\, 819 SW 152nd St\, Burien\, WA\, 98166\, United States
CATEGORIES:Museum Events
ATTACH;FMTTYPE=image/png:https://highlinemuseum.org/wp-content/uploads/2021/05/exhibit-camp-1.png
ORGANIZER;CN="Highline Heritage Museum":MAILTO:info@highlinehistory.org
END:VEVENT
BEGIN:VEVENT
DTSTART;TZID=America/Los_Angeles:20210806T140000
DTEND;TZID=America/Los_Angeles:20210806T150000
DTSTAMP:20260419T113939
CREATED:20210602T001840Z
LAST-MODIFIED:20210828T201901Z
UID:4947-1628258400-1628262000@highlinemuseum.org
SUMMARY:Now & Then Historic Walking Tour
DESCRIPTION:Friday\, August 6\, 2021 \n2 – 3 PM \n 
URL:https://highlinemuseum.org/event/now-then-historic-walking-tour/
LOCATION:WA
CATEGORIES:Museum Events
ATTACH;FMTTYPE=image/png:https://highlinemuseum.org/wp-content/uploads/2021/06/Now-Then-Series-copy.png
END:VEVENT
BEGIN:VEVENT
DTSTART;TZID=America/Los_Angeles:20210806T140000
DTEND;TZID=America/Los_Angeles:20210806T150000
DTSTAMP:20260419T113939
CREATED:20210827T033925Z
LAST-MODIFIED:20210827T033957Z
UID:6184-1628258400-1628262000@highlinemuseum.org
SUMMARY:Now and Then Historic Walking Tour
DESCRIPTION:Join us on this guided tour exploring businesses on 152nd Street! Tour will last 45-60 minutes. Be prepared to walk\, discover\, and share stories with the group! Tour will begin at the museum. Space is limited to 20 individuals – sign up today! \n\n\n\nMembers: $10 per person Non-members: $12 per person \n\n\n\nClick Here to Register!
URL:https://highlinemuseum.org/event/now-and-then-historic-walking-tour/
LOCATION:Highline Heritage Museum\, 819 SW 152nd St\, Burien\, WA\, 98166\, United States
CATEGORIES:Museum Events
ATTACH;FMTTYPE=image/png:https://highlinemuseum.org/wp-content/uploads/2021/07/Untitled-design-3.png
END:VEVENT
BEGIN:VEVENT
DTSTART;TZID=America/Los_Angeles:20210806T180000
DTEND;TZID=America/Los_Angeles:20210806T193000
DTSTAMP:20260419T113939
CREATED:20210804T195845Z
LAST-MODIFIED:20210828T202042Z
UID:5036-1628272800-1628278200@highlinemuseum.org
SUMMARY:Exhibits Opening Reception
DESCRIPTION:with Burien Arts Association and Artists United \nOn site at the museum – August 6 – 6:00 – 7:30 PM
URL:https://highlinemuseum.org/event/exhibits-opening-reception/
LOCATION:WA
CATEGORIES:Museum Events
ATTACH;FMTTYPE=image/png:https://highlinemuseum.org/wp-content/uploads/2021/08/Behind-Every-Great-Human-is-an-Even-Greater-small.png
END:VEVENT
BEGIN:VEVENT
DTSTART;TZID=America/Los_Angeles:20210811T190000
DTEND;TZID=America/Los_Angeles:20210811T200000
DTSTAMP:20260419T113939
CREATED:20210709T210905Z
LAST-MODIFIED:20210828T202316Z
UID:5009-1628708400-1628712000@highlinemuseum.org
SUMMARY:Like Mother: 7 Artists Panel
DESCRIPTION:Wednesday\, August 11\n7:00 – 8:00 PM\nFree via Zoom \nhttps://us02web.zoom.us/j/84376087534\nMeeting ID: 843 7608 7534
URL:https://highlinemuseum.org/event/like-mother-7-artists-panel/
LOCATION:WA
CATEGORIES:Museum Events
ATTACH;FMTTYPE=image/png:https://highlinemuseum.org/wp-content/uploads/2021/07/Like-Mother-Exhibit-2021-2-small.png
END:VEVENT
BEGIN:VEVENT
DTSTART;TZID=America/Los_Angeles:20210821T160000
DTEND;TZID=America/Los_Angeles:20210821T170000
DTSTAMP:20260419T113939
CREATED:20210602T011750Z
LAST-MODIFIED:20210828T202009Z
UID:4977-1629561600-1629565200@highlinemuseum.org
SUMMARY:Storytelling by Tim Robinson from The Highline Times
DESCRIPTION:Tim Robinson from The Highline Times is back for storytelling\, this time about Camp Waskowitz! \nSaturday\, August 21\, 2021 \n4 PM – Free via Zoom \nTo register\, contact – info@highlinehistory.org
URL:https://highlinemuseum.org/event/storytelling-by-tim-robinson-from-the-highline-times-2/
LOCATION:WA
CATEGORIES:Museum Events
ATTACH;FMTTYPE=image/png:https://highlinemuseum.org/wp-content/uploads/2021/06/TIM-ROBINSON-SERIES-small.png
END:VEVENT
BEGIN:VEVENT
DTSTART;TZID=America/Los_Angeles:20210824T153000
DTEND;TZID=America/Los_Angeles:20210824T163000
DTSTAMP:20260419T113939
CREATED:20210825T182405Z
LAST-MODIFIED:20210825T192531Z
UID:5161-1629819000-1629822600@highlinemuseum.org
SUMMARY:Highline Heritage Museum’s Activities at the Park!
DESCRIPTION:Do you want to learn more about traditional games and toys from around the world? \nJoin us to have fun with activities tailored to children!
URL:https://highlinemuseum.org/event/highline-heritage-museums-activities-at-the-park/2021-08-24/
LOCATION:Chelsea Park\, by the upper playground\, 839 SW 136th St.\, Burien\, WA\, 98166\, United States
CATEGORIES:Museum Events
ATTACH;FMTTYPE=image/png:https://highlinemuseum.org/wp-content/uploads/2021/08/image.png
ORGANIZER;CN="Highline Heritage Museum":MAILTO:info@highlinehistory.org
GEO:47.4809914;-122.3472054
X-APPLE-STRUCTURED-LOCATION;VALUE=URI;X-ADDRESS=Chelsea Park by the upper playground 839 SW 136th St. Burien WA 98166 United States;X-APPLE-RADIUS=500;X-TITLE=839 SW 136th St.:geo:-122.3472054,47.4809914
END:VEVENT
END:VCALENDAR